BEGIN:VCALENDAR
VERSION:2.0
PRODID:-//hacksw/handcal//NONSGML v1.0//EN
CALSCALE:GREGORIAN
BEGIN:VTIMEZONE
TZID:America/New_York
BEGIN:DAYLIGHT
TZOFFSETFROM:-0600
TZNAME:MDT
TZOFFSETTO:-0600
END:DAYLIGHT
END:VTIMEZONE
DTSTAMP:20260419T093725Z
UID:69e4da95e915b
BEGIN:VEVENT
LOCATION:Pinnacle Learning Commons at Leadville Campus, 901 US-24, Leadville, CO US 80461
DESCRIPTION:<p>Drop by the library anytime between 3-6 p.m. to decorate your graduation cap! All supplies will be provided, just bring your cap.&nbsp;</p>
DTSTART;TZID=America/New_York:20260428T150000
DTEND;TZID=America/New_York:20260428T180000
SUMMARY:Grad Hat Decorating - Leadville
URL;VALUE=URI:/grad-hat-decorating-leadville-0
END:VEVENT
END:VCALENDAR